
BEGIN:VCALENDAR
VERSION:2.0
PRODID:-//OPTI-6G  - ECPv6.15.20//NONSGML v1.0//EN
CALSCALE:GREGORIAN
METHOD:PUBLISH
X-WR-CALNAME:OPTI-6G 
X-ORIGINAL-URL:https://opti-6g.sns-ju.eu
X-WR-CALDESC:Events for OPTI-6G 
REFRESH-INTERVAL;VALUE=DURATION:PT1H
X-Robots-Tag:noindex
X-PUBLISHED-TTL:PT1H
BEGIN:VTIMEZONE
TZID:UTC
BEGIN:STANDARD
TZOFFSETFROM:+0000
TZOFFSETTO:+0000
TZNAME:UTC
DTSTART:20230101T000000
END:STANDARD
END:VTIMEZONE
BEGIN:VEVENT
DTSTART;VALUE=DATE:20241021
DTEND;VALUE=DATE:20241024
DTSTAMP:20260421T104752
CREATED:20240912T073327Z
LAST-MODIFIED:20240912T073327Z
UID:336-1729468800-1729727999@opti-6g.sns-ju.eu
SUMMARY:SNS PROJECTS @ “Empowering 6G Networks: 1st Workshop on Advancements in Research Infrastructures\, Adaptive Frameworks and Global Architectural Evolution (ATHENA 2024)
DESCRIPTION:The 1st Workshop on “Empowering 6G Networks: 1st Workshop on Advancements in Research Infrastructures\, Adaptative Frameworks\, and Global Architectural Evolution” (ATHENA 2024) will take place in 21-23 October 2024 in Athens\, Greece. The SNS projects SAFE-6G\, 6G-SANDBOX\, ENVELOPPE\, ECOeNET\, ORIGAMI and 6G-EWOC support the workshop. The co-organisers call for papers. \nThe IEEE International Workshop on Computer Aided Modeling and Design of Communication Links and Networks (CAMAD) 2024 invites researchers\, practitioners\, and industry experts to submit their original contributions to the workshop titled “Empowering 6G Networks: Workshop on Advancements in Research Infrastructures\, Adaptive Frameworks\, and Global Architectural Evolution.” \nMore information here.
URL:https://opti-6g.sns-ju.eu/event/sns-projects-empowering-6g-networks-1st-workshop-on-advancements-in-research-infrastructures-adaptive-frameworks-and-global-architectural-evolution-athena-2024/
ATTACH;FMTTYPE=image/png:https://opti-6g.sns-ju.eu/wp-content/uploads/2024/09/1st-workshop-on-advancements-in-research-infrastructures-adaptive-frameworks-and-global-architectural-evolution-athena-2024-2.png
END:VEVENT
END:VCALENDAR